BEGIN:VCALENDAR
VERSION:2.0
PRODID:-//Eventin//Event Calendar//EN
CALSCALE:GREGORIAN
METHOD:PUBLISH
BEGIN:VEVENT
UID:46820c69a2f9d111ed242f467034d6f3@www.atil.global
SUMMARY:AGA Prophetic School Online Mentoring Sessions - First Years
DESCRIPTION:Prophetic Online Mentoring session - teaching from the Word and
  practical activation.
LOCATION:Online
DTSTAMP:20260424T045947Z
DTSTART:20260429T180000Z
DTEND:20260429T193000Z
END:VEVENT
END:VCALENDAR
