BEGIN:VCALENDAR
VERSION:2.0
PRODID:-//Eventin//Event Calendar//EN
CALSCALE:GREGORIAN
METHOD:PUBLISH
BEGIN:VEVENT
UID:108c778d158c2330bde90e2ff182557c@www.atil.global
SUMMARY:AGA Prophetic School Online Mentoring Sessions - Second Years
DESCRIPTION:Prophetic Online Mentoring session - teaching from the Word and
  practical activation.
LOCATION:Online
DTSTAMP:20260424T050127Z
DTSTART:20260430T180000Z
DTEND:20260430T193000Z
END:VEVENT
END:VCALENDAR
